{"text_format":"1","workbook":"xlsx","n_sheets":4,"sheets":["入力画面","時間外命令簿","算出表","データ"],"not_rendered":{"charts":0,"images":0,"macros":1,"external_links":0,"defined_names":2,"comments":0,"pivot_tables":0},"unopened":[],"bounds":{"document_bytes":16777216,"sheet_cells":100000,"rows_first":2000,"rows_last":500,"rows_between":2000,"halvings":0,"cell_chars":16384,"cell_head_chars":4096},"cells_cut":0,"cells_raw":0,"read":"whole","date_system":"1900"}

{"sheet":"入力画面","index":0,"n_rows":30,"n_cols":26,"rows_kept":30,"cut":false,"hidden":false,"merged":[[16,6,16,7],[20,6,20,7],[24,6,24,7]]}
["バージョン　２．０１",null,null,null,null,null,null,null,null,null,null,null,null,null,null,null,null,null,null,null,null,null,null,null,null,"職名"]
[null,null,null,null,null,null,null,null,null,null,null,null,null,null,null,null,null,null,null,null,null,null,null,null,null,"主事"]
[null,null,null,null,null,null,null,null,null,null,null,null,null,null,null,null,null,null,null,null,null,null,null,null,null,"主任主事"]
[null,null,null,null,null,null,null,null,null,null,null,null,null,null,null,null,null,null,null,null,null,null,null,null,null,"事務主査"]
[null,null,null,null,null,null,null,null,null,null,null,null,null,null,null,null,null,null,null,null,null,null,null,null,null,"企画主査"]
[null,null,null,null,null,null,null,null,null,null,null,null,null,null,null,null,null,null,null,null,null,null,null,null,null,"主幹"]
[null,null,null,"時間外勤務命令簿帳票印刷入力画面",null,null,null,null,null,null,null,null,null,null,null,null,null,null,null,null,null,null,null,null,null,"事務代理"]
[null,null,null,null,null,null,null,null,null,null,null,null,null,null,null,null,null,null,null,null,null,null,null,null,null,"技師"]
[null,null,null,"何月分を作成しますか",null,null,"年",null,"月",null,null,null,null,null,null,null,null,null,null,null,null,null,null,null,null,"主任技師"]
[null,null,null,null,null,null,null,null,null,null,null,null,null,null,null,null,null,null,null,null,null,null,null,null,null,"技術主査"]
[null,null,null,null,null,null,28,null,11]
[]
[null,null,null,"どなたの分を作成しますか",null,null,null,null,null,"何週目の分を印刷しますかボタンを押してください"]
[]
[null,null,null,1,"職　　名",null,"氏　　　　名"]
[]
[null,null,null,null,"主任主事",null,"北九太郎"]
[]
[null,null,null,2,"職　　名",null,"氏　　　　名"]
[]
[]
[null,null,null,null,{"$f":"\"\"","v":""}]
[null,null,null,3,"職　　名",null,"氏　　　　名"]
[]
[]
[]
[]
[null,1,"作成する　年、　月　　を入力してください。",null,null,null,"注　土曜日に勤務し、翌週に振り替えを行った場合、２５／１００を請求する必要があります。"]
[null,2,"職・氏名　を入力してください。(3名まで登録可)",null,null,null,"　　　この際、算出表が必要となります。下のボタンを押下してください。"]
[null,3,"印刷は、ページ指定をして印刷してください。"]

{"sheet":"時間外命令簿","index":1,"n_rows":40,"n_cols":36,"rows_kept":40,"cut":false,"hidden":false,"merged":[[14,29,14,32],[14,25,14,28],[25,25,25,28],[16,25,18,26],[16,29,18,30],[20,25,20,28],[20,29,20,32],[21,25,21,28],[21,29,21,32],[23,25,23,28],[25,29,25,32],[23,29,23,32],[5,0,7,0],[5,9,7,10],[9,9,9,12],[8,2,8,3],[8,0,10,0],[16,0,18,0],[32,9,32,12],[16,9,18,10],[20,9,20,12],[21,9,21,12],[23,9,23,12],[20,2,20,3],[20,5,20,8],[25,2,25,3],[26,2,26,3],[25,9,25,12],[1,14,1,15],[1,17,1,18],[4,2,4,3],[2,5,2,6],[2,7,2,8],[2,13,2,14],[2,9,2,10],[2,11,2,12],[2,15,2,16],[1,0,1,8],[1,11,1,12],[9,5,9,8],[10,5,10,8],[11,2,11,3],[12,2,12,3],[10,9,10,12],[12,9,12,12],[9,13,9,16],[12,5,12,8],[2,21,2,22],[2,17,2,18],[5,5,7,6],[10,13,10,16],[5,21,7,22],[9,21,9,24],[10,21,10,24],[5,17,7,18],[9,2,9,3],[10,2,10,3],[2,33,2,35],[11,35,13,35],[9,25,9,28],[10,25,10,28],[12,25,12,28],[9,29,9,32],[10,29,10,32],[5,25,7,26],[2,27,2,28],[12,29,12,32],[2,25,2,26],[2,29,2,30],[2,31,2,32],[5,29,7,30],[12,21,12,24],[12,13,12,16],[12,17,12,20],[5,13,7,14],[2,19,2,20],[9,17,9,20],[10,17,10,20],[2,23,2,24],[13,2,13,3],[14,2,14,3],[14,21,14,24],[22,2,22,3],[21,2,21,3],[21,5,21,8],[21,13,21,16],[15,2,15,3],[16,17,18,18],[16,21,18,22],[14,9,14,12],[14,13,14,16],[19,2,19,3],[16,5,18,6],[16,13,18,14],[14,17,14,20],[20,17,20,20],[31,29,31,32],[31,21,31,24],[31,25,31,28],[27,29,29,30],[27,21,29,22],[20,13,20,16],[20,21,20,24],[24,2,24,3],[23,2,23,3],[23,5,23,8],[23,13,23,16],[21,17,21,20],[23,21,23,24],[23,17,23,20],[21,21,21,24],[25,13,25,16],[27,17,29,18],[25,21,25,24],[25,17,25,20],[31,5,31,8],[31,13,31,16],[31,9,31,12],[32,17,32,20],[31,17,31,20],[27,5,29,6],[27,13,29,14],[27,9,29,10],[27,25,29,26],[32,21,32,24],[35,2,35,3],[34,2,34,3],[34,5,34,8],[34,13,34,16],[34,17,34,20],[38,29,38,32],[32,25,32,28],[32,29,32,32],[32,5,32,8],[32,13,32,16],[36,9,36,12],[36,13,36,16],[34,9,34,12],[36,29,36,32],[36,17,36,20],[36,21,36,24],[36,25,36,28],[38,5,38,8],[39,5,39,8],[38,13,38,16],[39,13,39,16],[39,9,39,12],[38,9,38,12],[34,21,34,24],[34,25,34,28],[34,29,34,32],[19,0,21,0],[30,0,32,0],[27,0,29,0],[39,0,39,4],[3,33,3,35],[38,33,38,35],[39,33,39,35],[22,35,24,35],[4,33,4,35],[33,35,35,35],[39,29,39,32],[36,2,36,3],[37,2,37,3],[38,0,38,4],[30,2,30,3],[31,2,31,3],[33,2,33,3],[32,2,32,3],[38,17,38,20],[39,17,39,20],[38,21,38,24],[39,21,39,24],[38,25,38,28],[39,25,39,28]]}
[null,null,null,null,null,null,null,null,null,null,null,null,null,null,null,null,null,null,null,null,null,null,null,null,null,null,null,null,null,null,null,null,null,"様式1"]
["時間外（休日）勤務命令簿",null,null,null,null,null,null,null,null,"（平成",null,25,null,"年",4,null,"月",1,null,"週）"]
[null,null,null,null,null,"命令印",null,"確認印",null,"命令印",null,"確認印",null,"命令印",null,"確認印",null,"命令印",null,"確認印",null,"命令印",null,"確認印",null,"命令印",null,"確認印",null,"命令印",null,"確認印",null,"事後確認印"]
[]
[null,null,"項　　目",null,null,{"$f":"IF(H5=\"\",\"\",$O$2)","v":""},"月",null,"日(日)",{"$f":"IF(L5=\"\",\"\",$O$2)","v":4},"月",1,"日(月)",{"$f":"IF(P5=\"\",\"\",$O$2)","v":4},"月",2,"日(火)",{"$f":"IF(T5=\"\",\"\",$O$2)","v":4},"月",3,"日(水)",{"$f":"IF(X5=\"\",\"\",$O$2)","v":4},"月",4,"日(木)",{"$f":"IF(AB5=\"\",\"\",$O$2)","v":4},"月",5,"日(金)",{"$f":"IF(AF5=\"\",\"\",$O$2)","v":4},"月",6,"日(土)","週　　　　計"]
[{"$f":"入力画面!E17","v":"主任主事"},null,"業　務","終　了",null,"　"]
[]
[null,null,"命令印","確認印"]
[{"$f":"入力画面!G17","v":"北九太郎"},null,"業務内容",null,null,null,null,null,null,null,null,null,null,null,null,null,null,null,null,null,null,null,null,null,null,null,null,null,null,null,null,null,null,"　（支給割合内訳）"]
[null,null,"命令時間",null,null,"　：　　　～　　　：",null,null,null,"　：　　　～　　　：",null,null,null,"　：　　　～　　　：",null,null,null,"　：　　　～　　　：",null,null,null,"　：　　　～　　　：",null,null,null,"　：　　　～　　　：",null,null,null,"　：　　　～　　　：",null,null,null,null,"時間","休日"]
[null,null,"従事時間",null,null,"　：　　　～　　　：",null,null,null,"　：　　　～　　　：",null,null,null,"　：　　　～　　　：",null,null,null,"　：　　　～　　　：",null,null,null,"　：　　　～　　　：",null,null,null,"　：　　　～　　　：",null,null,null,"　：　　　～　　　：",null,null,null,null,"外"]
[null,null,"除算時間",null,null,null,null,null,null,null,null,null,null,null,null,null,null,null,null,null,null,null,null,null,null,null,null,null,null,null,null,null,null,"  25/100"]
[null,null,"振替日",null,null,"月　　日\n（　　　　～　　　　）",null,null,null,null,null,null,null,null,null,null,null,null,null,null,null,null,null,null,null,null,null,null,null,"月　　日\n（　　　　～　　　　）",null,null,null," 125/100"]
[null,null,"時間外勤務時間",null,null,null,null,null,null,null,null,null,null,null,null,null,null,null,null,null,null,null,null,null,null,null,null,null,null,null,null,null,null," 150/100"]
[null,null,"代休日指定",null,null,null,null,null,null," (有､無)     月     日",null,null,null," (有､無)     月     日",null,null,null," (有､無)     月     日",null,null,null," (有､無)     月     日",null,null,null," (有､無)     月     日",null,null,null," (有､無)     月     日",null,null,null," 135/100"]
[null,null,"休日勤務時間",null,null,null,null,null,null,null,null,null,null,null,null,null,null,null,null,null,null,null,null,null,null,null,null,null,null,null,null,null,null," 160/100"]
[{"$f":"IF(入力画面!E21=\"\",\"\",入力画面!E21)","v":""},null,"業　務","終　了"]
[]
[null,null,"命令印","確認印"]
[{"$f":"IF(入力画面!G21=\"\",\"\",入力画面!G21)","v":""},null,"業務内容",null,null,null,null,null,null,null,null,null,null,null,null,null,null,null,null,null,null,null,null,null,null,null,null,null,null,null,null,null,null,"　（支給割合内訳）"]
[null,null,"命令時間",null,null,"　：　　　～　　　：",null,null,null,"　：　　　～　　　：",null,null,null,"　：　　　～　　　：",null,null,null,"　：　　　～　　　：",null,null,null,"　：　　　～　　　：",null,null,null,"　：　　　～　　　：",null,null,null,"　：　　　～　　　：",null,null,null,null,"時間","休日"]
[null,null,"従事時間",null,null,"　：　　　～　　　：",null,null,null,"　：　　　～　　　：",null,null,null,"　：　　　～　　　：",null,null,null,"　：　　　～　　　：",null,null,null,"　：　　　～　　　：",null,null,null,"　：　　　～　　　：",null,null,null,"　：　　　～　　　：",null,null,null,null,"外"]
[null,null,"除算時間",null,null,null,null,null,null,null,null,null,null,null,null,null,null,null,null,null,null,null,null,null,null,null,null,null,null,null,null,null,null,"  25/100"]
[null,null,"振替日",null,null,"月　　日\n（　　　　～　　　　）",null,null,null,null,null,null,null,null,null,null,null,null,null,null,null,null,null,null,null,null,null,null,null,"月　　日\n（　　　　～　　　　）",null,null,null," 125/100"]
[null,null,"時間外勤務時間",null,null,null,null,null,null,null,null,null,null,null,null,null,null,null,null,null,null,null,null,null,null,null,null,null,null,null,null,null,null," 150/100"]
[null,null,"代休日指定",null,null,null,null,null,null," (有､無)     月     日",null,null,null," (有､無)     月     日",null,null,null," (有､無)     月     日",null,null,null," (有､無)     月     日",null,null,null," (有､無)     月     日",null,null,null," (有､無)     月     日",null,null,null," 135/100"]
[null,null,"休日勤務時間",null,null,null,null,null,null,null,null,null,null,null,null,null,null,null,null,null,null,null,null,null,null,null,null,null,null,null,null,null,null," 160/100"]
[{"$f":"IF(入力画面!E25=\"\",\"\",入力画面!E25)","v":""},null,"業　務","終　了"]
[]
[null,null,"命令印","確認印"]
[{"$f":"IF(入力画面!G25=\"\",\"\",入力画面!G25)","v":""},null,"業務内容",null,null,null,null,null,null,null,null,null,null,null,null,null,null,null,null,null,null,null,null,null,null,null,null,null,null,null,null,null,null,"　（支給割合内訳）"]
[null,null,"命令時間",null,null,"　：　　　～　　　：",null,null,null,"　：　　　～　　　：",null,null,null,"　：　　　～　　　：",null,null,null,"　：　　　～　　　：",null,null,null,"　：　　　～　　　：",null,null,null,"　：　　　～　　　：",null,null,null,"　：　　　～　　　：",null,null,null,null,"時間","休日"]
[null,null,"従事時間",null,null,"　：　　　～　　　：",null,null,null,"　：　　　～　　　：",null,null,null,"　：　　　～　　　：",null,null,null,"　：　　　～　　　：",null,null,null,"　：　　　～　　　：",null,null,null,"　：　　　～　　　：",null,null,null,"　：　　　～　　　：",null,null,null,null,"外"]
[null,null,"除算時間",null,null,null,null,null,null,null,null,null,null,null,null,null,null,null,null,null,null,null,null,null,null,null,null,null,null,null,null,null,null,"  25/100"]
[null,null,"振替日",null,null,"月　　日\n（　　　　～　　　　）",null,null,null,null,null,null,null,null,null,null,null,null,null,null,null,null,null,null,null,null,null,null,null,"月　　日\n（　　　　～　　　　）",null,null,null," 125/100"]
[null,null,"時間外勤務時間",null,null,null,null,null,null,null,null,null,null,null,null,null,null,null,null,null,null,null,null,null,null,null,null,null,null,null,null,null,null," 150/100"]
[null,null,"代休日指定",null,null,null,null,null,null," (有､無)     月     日",null,null,null," (有､無)     月     日",null,null,null," (有､無)     月     日",null,null,null," (有､無)     月     日",null,null,null," (有､無)     月     日",null,null,null," (有､無)     月     日",null,null,null," 135/100"]
[null,null,"休日勤務時間",null,null,null,null,null,null,null,null,null,null,null,null,null,null,null,null,null,null,null,null,null,null,null,null,null,null,null,null,null,null," 160/100"]
["小　　　計"]
["合　　　計"]

{"sheet":"算出表","index":2,"n_rows":25,"n_cols":20,"rows_kept":25,"cut":false,"hidden":false,"merged":[[9,8,10,8],[9,9,10,12],[9,2,10,2],[9,3,10,3],[9,4,10,4],[9,5,10,5],[9,6,10,6],[9,7,10,7],[13,1,15,1],[13,2,15,2],[13,3,15,3],[13,4,15,4],[17,9,17,12],[16,11,16,12],[14,9,14,12],[13,10,13,12],[15,10,15,11],[13,8,15,8],[11,6,12,6],[11,7,12,7],[11,8,12,8],[11,2,12,2],[11,3,12,3],[11,4,12,4],[11,5,12,5],[1,3,1,4],[2,3,2,4],[13,5,15,5],[13,6,15,6],[13,7,15,7]]}
[null,null,null,null,null,null,null,null,null,null,null,null,null,null,null,null,null,null,"職名","氏名"]
[null,"作成する年","作成する月","作成する週を入力",null,null,null,null,null,null,null,null,null,null,null,null,null,{"$f":"DATE(B3+1988,C3,1)","v":"2012-11-01"},{"$f":"入力画面!E17","v":"主任主事"},{"$f":"入力画面!G17","v":"北九太郎"}]
[null,24,11,1,null,null,null,null,null,null,null,null,null,null,null,null,null,{"$f":"WEEKDAY(R2)","v":5},{"$f":"入力画面!E21","v":0},{"$f":"入力画面!G21","v":0}]
[null,null,null,null,null,null,null,null,null,null,null,null,null,null,null,null,null,null,{"$f":"入力画面!E25","v":0},{"$f":"入力画面!G25","v":0}]
[null,{"$f":"\"時間外勤務手当算出表（平成\"&B3&\"年\"&C3&\"月\"&D3&\"週）\"","v":"時間外勤務手当算出表（平成24年11月1週）"}]
[]
[]
[]
[null,"職・氏名"]
[null,"主任主事",{"$f":"(D3-1)*7+R2-R3+1","v":"2012-10-28"},{"$f":"C10+1","v":"2012-10-29"},"2012-10-30","2012-10-31","2012-11-01","2012-11-02","2012-11-03","週　　計"]
[null,"北九太郎"]
[null,"当該週の割振り変更後の",0,7.75,7.75,7.75,7.75,7.75,7.75,"①",{"$f":"IF(SUM(C12:I13)<40,SUM(C12:I13),\"\")","v":""},null,"＜４０時間"]
[null,"正規の勤務時間",null,null,null,null,null,null,null,"②",{"$f":"IF(SUM(C12:I13)>=40,SUM(C12:I13),\"\")","v":46.5},null,"≧４０時間"]
[null,"休日勤務手当支給対象時\n間（③）",0,0,0,0,0,0,0,"③",{"$f":"SUM(C14:I16)","v":"00:00:00"}]
[null,null,null,null,null,null,null,null,null,"④（③＋40時間）"]
[null,null,null,null,null,null,null,null,null,null,{"$f":"SUM(K14)+40","v":40},null,"時間"]
[null,null,null,null,null,null,null,null,null,"①の場合",null,{"$f":"IF(K12=\"\",\"\",0)","v":""}]
[null,null,null,null,null,null,null,null,null,"②の場合"]
[]
[null," 時間外勤務手当（25/100）",null,null,null,null,null,null,null,"　②－④＝",null,{"$f":"K13-K16","v":6.5},"時間"]
[null," 支給対象時間"]
[]
[null,null,null,null,null,null,null,null,null,"※計算結果がマイナス"]
[null,null,null,null,null,null,null,null,null,"　の場合は、０時間で"]
[null,null,null,null,null,null,null,null,null,"　あること。"]

{"sheet":"データ","index":3,"n_rows":32,"n_cols":3,"rows_kept":32,"cut":false,"hidden":true,"merged":[]}
[{"$f":"時間外命令簿!L2+1988","v":2013},{"$f":"時間外命令簿!O2","v":4},"月"]
[{"$f":"DAY(B2)","v":1},{"$f":"DATEVALUE(FIXED(時間外命令簿!$L$2+1988,0,TRUE)&+\"/\"&+FIXED(時間外命令簿!$O$2,0,TRUE)&+\"/\"&+FIXED(1,0,TRUE))","v":41365},{"$f":"IF(WEEKDAY(B2)=1,\"日\",IF(WEEKDAY(B2)=2,\"月\",IF(WEEKDAY(B2)=3,\"火\",IF(WEEKDAY(B2)=4,\"水\",IF(WEEKDAY(B2)=5,\"木\",IF(WEEKDAY(B2)=6,\"金\",IF(WEEKDAY(B2)=7,\"土\",\"\")))))))","v":"月"}]
[{"$f":"DAY(B3)","v":2},{"$f":"DATEVALUE(FIXED(時間外命令簿!$L$2+1988,0,TRUE)&+\"/\"&+FIXED(時間外命令簿!$O$2,0,TRUE)&+\"/\"&+FIXED(A2+1,0,TRUE))","v":41366},{"$f":"IF(WEEKDAY(B3)=1,\"日\",IF(WEEKDAY(B3)=2,\"月\",IF(WEEKDAY(B3)=3,\"火\",IF(WEEKDAY(B3)=4,\"水\",IF(WEEKDAY(B3)=5,\"木\",IF(WEEKDAY(B3)=6,\"金\",IF(WEEKDAY(B3)=7,\"土\",\"\")))))))","v":"火"}]
[3,{"$f":"DATEVALUE(FIXED(時間外命令簿!$L$2+1988,0,TRUE)&+\"/\"&+FIXED(時間外命令簿!$O$2,0,TRUE)&+\"/\"&+FIXED(A3+1,0,TRUE))","v":41367},"水"]
[4,{"$f":"DATEVALUE(FIXED(時間外命令簿!$L$2+1988,0,TRUE)&+\"/\"&+FIXED(時間外命令簿!$O$2,0,TRUE)&+\"/\"&+FIXED(A4+1,0,TRUE))","v":41368},"木"]
[5,{"$f":"DATEVALUE(FIXED(時間外命令簿!$L$2+1988,0,TRUE)&+\"/\"&+FIXED(時間外命令簿!$O$2,0,TRUE)&+\"/\"&+FIXED(A5+1,0,TRUE))","v":41369},"金"]
[6,{"$f":"DATEVALUE(FIXED(時間外命令簿!$L$2+1988,0,TRUE)&+\"/\"&+FIXED(時間外命令簿!$O$2,0,TRUE)&+\"/\"&+FIXED(A6+1,0,TRUE))","v":41370},"土"]
[7,{"$f":"DATEVALUE(FIXED(時間外命令簿!$L$2+1988,0,TRUE)&+\"/\"&+FIXED(時間外命令簿!$O$2,0,TRUE)&+\"/\"&+FIXED(A7+1,0,TRUE))","v":41371},"日"]
[8,{"$f":"DATEVALUE(FIXED(時間外命令簿!$L$2+1988,0,TRUE)&+\"/\"&+FIXED(時間外命令簿!$O$2,0,TRUE)&+\"/\"&+FIXED(A8+1,0,TRUE))","v":41372},"月"]
[9,{"$f":"DATEVALUE(FIXED(時間外命令簿!$L$2+1988,0,TRUE)&+\"/\"&+FIXED(時間外命令簿!$O$2,0,TRUE)&+\"/\"&+FIXED(A9+1,0,TRUE))","v":41373},"火"]
[10,{"$f":"DATEVALUE(FIXED(時間外命令簿!$L$2+1988,0,TRUE)&+\"/\"&+FIXED(時間外命令簿!$O$2,0,TRUE)&+\"/\"&+FIXED(A10+1,0,TRUE))","v":41374},"水"]
[11,{"$f":"DATEVALUE(FIXED(時間外命令簿!$L$2+1988,0,TRUE)&+\"/\"&+FIXED(時間外命令簿!$O$2,0,TRUE)&+\"/\"&+FIXED(A11+1,0,TRUE))","v":41375},"木"]
[12,{"$f":"DATEVALUE(FIXED(時間外命令簿!$L$2+1988,0,TRUE)&+\"/\"&+FIXED(時間外命令簿!$O$2,0,TRUE)&+\"/\"&+FIXED(A12+1,0,TRUE))","v":41376},"金"]
[13,{"$f":"DATEVALUE(FIXED(時間外命令簿!$L$2+1988,0,TRUE)&+\"/\"&+FIXED(時間外命令簿!$O$2,0,TRUE)&+\"/\"&+FIXED(A13+1,0,TRUE))","v":41377},"土"]
[14,{"$f":"DATEVALUE(FIXED(時間外命令簿!$L$2+1988,0,TRUE)&+\"/\"&+FIXED(時間外命令簿!$O$2,0,TRUE)&+\"/\"&+FIXED(A14+1,0,TRUE))","v":41378},"日"]
[15,{"$f":"DATEVALUE(FIXED(時間外命令簿!$L$2+1988,0,TRUE)&+\"/\"&+FIXED(時間外命令簿!$O$2,0,TRUE)&+\"/\"&+FIXED(A15+1,0,TRUE))","v":41379},"月"]
[16,{"$f":"DATEVALUE(FIXED(時間外命令簿!$L$2+1988,0,TRUE)&+\"/\"&+FIXED(時間外命令簿!$O$2,0,TRUE)&+\"/\"&+FIXED(A16+1,0,TRUE))","v":41380},"火"]
[17,{"$f":"DATEVALUE(FIXED(時間外命令簿!$L$2+1988,0,TRUE)&+\"/\"&+FIXED(時間外命令簿!$O$2,0,TRUE)&+\"/\"&+FIXED(A17+1,0,TRUE))","v":41381},"水"]
[18,{"$f":"DATEVALUE(FIXED(時間外命令簿!$L$2+1988,0,TRUE)&+\"/\"&+FIXED(時間外命令簿!$O$2,0,TRUE)&+\"/\"&+FIXED(A18+1,0,TRUE))","v":41382},"木"]
[19,{"$f":"DATEVALUE(FIXED(時間外命令簿!$L$2+1988,0,TRUE)&+\"/\"&+FIXED(時間外命令簿!$O$2,0,TRUE)&+\"/\"&+FIXED(A19+1,0,TRUE))","v":41383},"金"]
[20,{"$f":"DATEVALUE(FIXED(時間外命令簿!$L$2+1988,0,TRUE)&+\"/\"&+FIXED(時間外命令簿!$O$2,0,TRUE)&+\"/\"&+FIXED(A20+1,0,TRUE))","v":41384},"土"]
[21,{"$f":"DATEVALUE(FIXED(時間外命令簿!$L$2+1988,0,TRUE)&+\"/\"&+FIXED(時間外命令簿!$O$2,0,TRUE)&+\"/\"&+FIXED(A21+1,0,TRUE))","v":41385},"日"]
[22,{"$f":"DATEVALUE(FIXED(時間外命令簿!$L$2+1988,0,TRUE)&+\"/\"&+FIXED(時間外命令簿!$O$2,0,TRUE)&+\"/\"&+FIXED(A22+1,0,TRUE))","v":41386},"月"]
[23,{"$f":"DATEVALUE(FIXED(時間外命令簿!$L$2+1988,0,TRUE)&+\"/\"&+FIXED(時間外命令簿!$O$2,0,TRUE)&+\"/\"&+FIXED(A23+1,0,TRUE))","v":41387},"火"]
[24,{"$f":"DATEVALUE(FIXED(時間外命令簿!$L$2+1988,0,TRUE)&+\"/\"&+FIXED(時間外命令簿!$O$2,0,TRUE)&+\"/\"&+FIXED(A24+1,0,TRUE))","v":41388},"水"]
[25,{"$f":"DATEVALUE(FIXED(時間外命令簿!$L$2+1988,0,TRUE)&+\"/\"&+FIXED(時間外命令簿!$O$2,0,TRUE)&+\"/\"&+FIXED(A25+1,0,TRUE))","v":41389},"木"]
[26,{"$f":"DATEVALUE(FIXED(時間外命令簿!$L$2+1988,0,TRUE)&+\"/\"&+FIXED(時間外命令簿!$O$2,0,TRUE)&+\"/\"&+FIXED(A26+1,0,TRUE))","v":41390},"金"]
[27,{"$f":"DATEVALUE(FIXED(時間外命令簿!$L$2+1988,0,TRUE)&+\"/\"&+FIXED(時間外命令簿!$O$2,0,TRUE)&+\"/\"&+FIXED(A27+1,0,TRUE))","v":41391},"土"]
[28,{"$f":"DATEVALUE(FIXED(時間外命令簿!$L$2+1988,0,TRUE)&+\"/\"&+FIXED(時間外命令簿!$O$2,0,TRUE)&+\"/\"&+FIXED(A28+1,0,TRUE))","v":41392},"日"]
[{"$f":"IF(MOD(A1,4)=0,DAY(B30),IF(B1=2,\"\",DAY(B30)))","v":29},{"$f":"IF(MOD(A1,4)=0,DATEVALUE(FIXED(時間外命令簿!$L$2+1988,0,TRUE)&+\"/\"&+FIXED(時間外命令簿!$O$2,0,TRUE)&+\"/\"&+FIXED(A29+1,0,TRUE)),IF($B$1=2,\"\",DATEVALUE(FIXED(時間外命令簿!$L$2+1988,0,TRUE)&+\"/\"&+FIXED(時間外命令簿!$O$2,0,TRUE)&+\"/\"&+FIXED(A29+1,0,TRUE))))","v":41393},{"$f":"IF(B30=\"\",\"\",IF(WEEKDAY(B30)=1,\"日\",IF(WEEKDAY(B30)=2,\"月\",IF(WEEKDAY(B30)=3,\"火\",IF(WEEKDAY(B30)=4,\"水\",IF(WEEKDAY(B30)=5,\"木\",IF(WEEKDAY(B30)=6,\"金\",\"土\")))))))","v":"月"}]
[{"$f":"IF(B31=\"\",\"\",DAY(B31))","v":30},{"$f":"IF(B1=2,\"\",DATEVALUE(FIXED(時間外命令簿!$L$2+1988,0,TRUE)&+\"/\"&+FIXED(時間外命令簿!$O$2,0,TRUE)&+\"/\"&+FIXED(A30+1,0,TRUE)))","v":41394},{"$f":"IF(B31=\"\",\"\",IF(WEEKDAY(B31)=1,\"日\",IF(WEEKDAY(B31)=2,\"月\",IF(WEEKDAY(B31)=3,\"火\",IF(WEEKDAY(B31)=4,\"水\",IF(WEEKDAY(B31)=5,\"木\",IF(WEEKDAY(B31)=6,\"金\",\"土\")))))))","v":"火"}]
[{"$f":"IF(B32=\"\",\"\",DAY(B32))","v":""},{"$f":"IF(OR(B1=2,B1=4,B1=6,B1=9,B1=11),\"\",DATEVALUE(FIXED(時間外命令簿!$L$2+1988,0,TRUE)&+\"/\"&+FIXED(時間外命令簿!$O$2,0,TRUE)&+\"/\"&+FIXED(A31+1,0,TRUE)))","v":""},{"$f":"IF(B32=\"\",\"\",IF(WEEKDAY(B32)=1,\"日\",IF(WEEKDAY(B32)=2,\"月\",IF(WEEKDAY(B32)=3,\"火\",IF(WEEKDAY(B32)=4,\"水\",IF(WEEKDAY(B32)=5,\"木\",IF(WEEKDAY(B32)=6,\"金\",\"土\")))))))","v":""}]